BEGIN:VCALENDAR
VERSION:2.0
PRODID:-//Place of Grace Calgary - ECPv6.15.15//NONSGML v1.0//EN
CALSCALE:GREGORIAN
METHOD:PUBLISH
X-WR-CALNAME:Place of Grace Calgary
X-ORIGINAL-URL:https://pogcalgary.ca
X-WR-CALDESC:Events for Place of Grace Calgary
REFRESH-INTERVAL;VALUE=DURATION:PT1H
X-Robots-Tag:noindex
X-PUBLISHED-TTL:PT1H
BEGIN:VTIMEZONE
TZID:UTC
BEGIN:STANDARD
TZOFFSETFROM:+0000
TZOFFSETTO:+0000
TZNAME:UTC
DTSTART:20230101T000000
END:STANDARD
END:VTIMEZONE
BEGIN:VEVENT
DTSTART;TZID=UTC:20240428T093000
DTEND;TZID=UTC:20240428T120000
DTSTAMP:20260420T044137
CREATED:20240427T225234Z
LAST-MODIFIED:20240428T000248Z
UID:22279-1714296600-1714305600@pogcalgary.ca
SUMMARY:Sunday Service
DESCRIPTION:This is a weekly worship service with words\, songs and felicitation
URL:https://pogcalgary.ca/event/sunday-service/
LOCATION:RCCG Palace of Grace\, 2020 33 St SE\, Calgary\, Alberta\, T2X 2A6\, Canada
CATEGORIES:Sunday Service
ATTACH;FMTTYPE=image/png:https://pogcalgary.ca/wp-content/uploads/2024/04/Sunday-Service.png
ORGANIZER;CN="RCCG Palace of Grace":MAILTO:pogcalgary.ca
END:VEVENT
BEGIN:VEVENT
DTSTART;TZID=UTC:20240501T183000
DTEND;TZID=UTC:20240501T190000
DTSTAMP:20260420T044137
CREATED:20240427T225748Z
LAST-MODIFIED:20240427T235756Z
UID:22286-1714588200-1714590000@pogcalgary.ca
SUMMARY:Midweek Service
DESCRIPTION:Midweek service where words and prayers are shared
URL:https://pogcalgary.ca/event/midweek-service/
LOCATION:RCCG Palace of Grace\, 2020 33 St SE\, Calgary\, Alberta\, T2X 2A6\, Canada
CATEGORIES:Church Services
ATTACH;FMTTYPE=image/png:https://pogcalgary.ca/wp-content/uploads/2024/04/mid-Week.png
ORGANIZER;CN="RCCG Palace of Grace":MAILTO:pogcalgary.ca
END:VEVENT
BEGIN:VEVENT
DTSTART;TZID=UTC:20240428T093000
DTEND;TZID=UTC:20240428T120000
DTSTAMP:20260420T044137
CREATED:20240427T225234Z
LAST-MODIFIED:20240428T000248Z
UID:22279-1714296600-1714305600@pogcalgary.ca
SUMMARY:Sunday Service
DESCRIPTION:This is a weekly worship service with words\, songs and felicitation
URL:https://pogcalgary.ca/event/sunday-service/
LOCATION:RCCG Palace of Grace\, 2020 33 St SE\, Calgary\, Alberta\, T2X 2A6\, Canada
CATEGORIES:Sunday Service
ATTACH;FMTTYPE=image/png:https://pogcalgary.ca/wp-content/uploads/2024/04/Sunday-Service.png
ORGANIZER;CN="RCCG Palace of Grace":MAILTO:pogcalgary.ca
END:VEVENT
BEGIN:VEVENT
DTSTART;TZID=UTC:20240501T183000
DTEND;TZID=UTC:20240501T190000
DTSTAMP:20260420T044137
CREATED:20240427T225748Z
LAST-MODIFIED:20240427T235756Z
UID:22286-1714588200-1714590000@pogcalgary.ca
SUMMARY:Midweek Service
DESCRIPTION:Midweek service where words and prayers are shared
URL:https://pogcalgary.ca/event/midweek-service/
LOCATION:RCCG Palace of Grace\, 2020 33 St SE\, Calgary\, Alberta\, T2X 2A6\, Canada
CATEGORIES:Church Services
ATTACH;FMTTYPE=image/png:https://pogcalgary.ca/wp-content/uploads/2024/04/mid-Week.png
ORGANIZER;CN="RCCG Palace of Grace":MAILTO:pogcalgary.ca
END:VEVENT
BEGIN:VEVENT
DTSTART;TZID=UTC:20240428T093000
DTEND;TZID=UTC:20240428T120000
DTSTAMP:20260420T044137
CREATED:20240427T225234Z
LAST-MODIFIED:20240428T000248Z
UID:22279-1714296600-1714305600@pogcalgary.ca
SUMMARY:Sunday Service
DESCRIPTION:This is a weekly worship service with words\, songs and felicitation
URL:https://pogcalgary.ca/event/sunday-service/
LOCATION:RCCG Palace of Grace\, 2020 33 St SE\, Calgary\, Alberta\, T2X 2A6\, Canada
CATEGORIES:Sunday Service
ATTACH;FMTTYPE=image/png:https://pogcalgary.ca/wp-content/uploads/2024/04/Sunday-Service.png
ORGANIZER;CN="RCCG Palace of Grace":MAILTO:pogcalgary.ca
END:VEVENT
BEGIN:VEVENT
DTSTART;TZID=UTC:20240430T233000
DTEND;TZID=UTC:20240430T233000
DTSTAMP:20260420T044137
CREATED:20240427T230122Z
LAST-MODIFIED:20240427T235836Z
UID:22290-1714519800-1714519800@pogcalgary.ca
SUMMARY:Monthly Crossover Service
DESCRIPTION:Prayer at the last day of the month to cross over to the new month.
URL:https://pogcalgary.ca/event/monthly-crossover-service/
LOCATION:RCCG Palace of Grace\, 2020 33 St SE\, Calgary\, Alberta\, T2X 2A6\, Canada
CATEGORIES:Church Services
ATTACH;FMTTYPE=image/png:https://pogcalgary.ca/wp-content/uploads/2024/04/Monthly-Prayer.png
ORGANIZER;CN="RCCG Palace of Grace":MAILTO:pogcalgary.ca
END:VEVENT
BEGIN:VEVENT
DTSTART;TZID=UTC:20240501T183000
DTEND;TZID=UTC:20240501T190000
DTSTAMP:20260420T044137
CREATED:20240427T225748Z
LAST-MODIFIED:20240427T235756Z
UID:22286-1714588200-1714590000@pogcalgary.ca
SUMMARY:Midweek Service
DESCRIPTION:Midweek service where words and prayers are shared
URL:https://pogcalgary.ca/event/midweek-service/
LOCATION:RCCG Palace of Grace\, 2020 33 St SE\, Calgary\, Alberta\, T2X 2A6\, Canada
CATEGORIES:Church Services
ATTACH;FMTTYPE=image/png:https://pogcalgary.ca/wp-content/uploads/2024/04/mid-Week.png
ORGANIZER;CN="RCCG Palace of Grace":MAILTO:pogcalgary.ca
END:VEVENT
BEGIN:VEVENT
DTSTART;TZID=UTC:20240428T093000
DTEND;TZID=UTC:20240428T120000
DTSTAMP:20260420T044137
CREATED:20240427T225234Z
LAST-MODIFIED:20240428T000248Z
UID:22279-1714296600-1714305600@pogcalgary.ca
SUMMARY:Sunday Service
DESCRIPTION:This is a weekly worship service with words\, songs and felicitation
URL:https://pogcalgary.ca/event/sunday-service/
LOCATION:RCCG Palace of Grace\, 2020 33 St SE\, Calgary\, Alberta\, T2X 2A6\, Canada
CATEGORIES:Sunday Service
ATTACH;FMTTYPE=image/png:https://pogcalgary.ca/wp-content/uploads/2024/04/Sunday-Service.png
ORGANIZER;CN="RCCG Palace of Grace":MAILTO:pogcalgary.ca
END:VEVENT
BEGIN:VEVENT
DTSTART;TZID=UTC:20240501T183000
DTEND;TZID=UTC:20240501T190000
DTSTAMP:20260420T044137
CREATED:20240427T225748Z
LAST-MODIFIED:20240427T235756Z
UID:22286-1714588200-1714590000@pogcalgary.ca
SUMMARY:Midweek Service
DESCRIPTION:Midweek service where words and prayers are shared
URL:https://pogcalgary.ca/event/midweek-service/
LOCATION:RCCG Palace of Grace\, 2020 33 St SE\, Calgary\, Alberta\, T2X 2A6\, Canada
CATEGORIES:Church Services
ATTACH;FMTTYPE=image/png:https://pogcalgary.ca/wp-content/uploads/2024/04/mid-Week.png
ORGANIZER;CN="RCCG Palace of Grace":MAILTO:pogcalgary.ca
END:VEVENT
BEGIN:VEVENT
DTSTART;TZID=UTC:20240428T093000
DTEND;TZID=UTC:20240428T120000
DTSTAMP:20260420T044137
CREATED:20240427T225234Z
LAST-MODIFIED:20240428T000248Z
UID:22279-1714296600-1714305600@pogcalgary.ca
SUMMARY:Sunday Service
DESCRIPTION:This is a weekly worship service with words\, songs and felicitation
URL:https://pogcalgary.ca/event/sunday-service/
LOCATION:RCCG Palace of Grace\, 2020 33 St SE\, Calgary\, Alberta\, T2X 2A6\, Canada
CATEGORIES:Sunday Service
ATTACH;FMTTYPE=image/png:https://pogcalgary.ca/wp-content/uploads/2024/04/Sunday-Service.png
ORGANIZER;CN="RCCG Palace of Grace":MAILTO:pogcalgary.ca
END:VEVENT
BEGIN:VEVENT
DTSTART;TZID=UTC:20240501T183000
DTEND;TZID=UTC:20240501T190000
DTSTAMP:20260420T044137
CREATED:20240427T225748Z
LAST-MODIFIED:20240427T235756Z
UID:22286-1714588200-1714590000@pogcalgary.ca
SUMMARY:Midweek Service
DESCRIPTION:Midweek service where words and prayers are shared
URL:https://pogcalgary.ca/event/midweek-service/
LOCATION:RCCG Palace of Grace\, 2020 33 St SE\, Calgary\, Alberta\, T2X 2A6\, Canada
CATEGORIES:Church Services
ATTACH;FMTTYPE=image/png:https://pogcalgary.ca/wp-content/uploads/2024/04/mid-Week.png
ORGANIZER;CN="RCCG Palace of Grace":MAILTO:pogcalgary.ca
END:VEVENT
BEGIN:VEVENT
DTSTART;TZID=UTC:20240428T093000
DTEND;TZID=UTC:20240428T120000
DTSTAMP:20260420T044137
CREATED:20240427T225234Z
LAST-MODIFIED:20240428T000248Z
UID:22279-1714296600-1714305600@pogcalgary.ca
SUMMARY:Sunday Service
DESCRIPTION:This is a weekly worship service with words\, songs and felicitation
URL:https://pogcalgary.ca/event/sunday-service/
LOCATION:RCCG Palace of Grace\, 2020 33 St SE\, Calgary\, Alberta\, T2X 2A6\, Canada
CATEGORIES:Sunday Service
ATTACH;FMTTYPE=image/png:https://pogcalgary.ca/wp-content/uploads/2024/04/Sunday-Service.png
ORGANIZER;CN="RCCG Palace of Grace":MAILTO:pogcalgary.ca
END:VEVENT
BEGIN:VEVENT
DTSTART;TZID=UTC:20240501T183000
DTEND;TZID=UTC:20240501T190000
DTSTAMP:20260420T044137
CREATED:20240427T225748Z
LAST-MODIFIED:20240427T235756Z
UID:22286-1714588200-1714590000@pogcalgary.ca
SUMMARY:Midweek Service
DESCRIPTION:Midweek service where words and prayers are shared
URL:https://pogcalgary.ca/event/midweek-service/
LOCATION:RCCG Palace of Grace\, 2020 33 St SE\, Calgary\, Alberta\, T2X 2A6\, Canada
CATEGORIES:Church Services
ATTACH;FMTTYPE=image/png:https://pogcalgary.ca/wp-content/uploads/2024/04/mid-Week.png
ORGANIZER;CN="RCCG Palace of Grace":MAILTO:pogcalgary.ca
END:VEVENT
BEGIN:VEVENT
DTSTART;TZID=UTC:20240428T093000
DTEND;TZID=UTC:20240428T120000
DTSTAMP:20260420T044137
CREATED:20240427T225234Z
LAST-MODIFIED:20240428T000248Z
UID:22279-1714296600-1714305600@pogcalgary.ca
SUMMARY:Sunday Service
DESCRIPTION:This is a weekly worship service with words\, songs and felicitation
URL:https://pogcalgary.ca/event/sunday-service/
LOCATION:RCCG Palace of Grace\, 2020 33 St SE\, Calgary\, Alberta\, T2X 2A6\, Canada
CATEGORIES:Sunday Service
ATTACH;FMTTYPE=image/png:https://pogcalgary.ca/wp-content/uploads/2024/04/Sunday-Service.png
ORGANIZER;CN="RCCG Palace of Grace":MAILTO:pogcalgary.ca
END:VEVENT
BEGIN:VEVENT
DTSTART;TZID=UTC:20240501T183000
DTEND;TZID=UTC:20240501T190000
DTSTAMP:20260420T044137
CREATED:20240427T225748Z
LAST-MODIFIED:20240427T235756Z
UID:22286-1714588200-1714590000@pogcalgary.ca
SUMMARY:Midweek Service
DESCRIPTION:Midweek service where words and prayers are shared
URL:https://pogcalgary.ca/event/midweek-service/
LOCATION:RCCG Palace of Grace\, 2020 33 St SE\, Calgary\, Alberta\, T2X 2A6\, Canada
CATEGORIES:Church Services
ATTACH;FMTTYPE=image/png:https://pogcalgary.ca/wp-content/uploads/2024/04/mid-Week.png
ORGANIZER;CN="RCCG Palace of Grace":MAILTO:pogcalgary.ca
END:VEVENT
BEGIN:VEVENT
DTSTART;TZID=UTC:20240430T233000
DTEND;TZID=UTC:20240430T233000
DTSTAMP:20260420T044137
CREATED:20240427T230122Z
LAST-MODIFIED:20240427T235836Z
UID:22290-1714519800-1714519800@pogcalgary.ca
SUMMARY:Monthly Crossover Service
DESCRIPTION:Prayer at the last day of the month to cross over to the new month.
URL:https://pogcalgary.ca/event/monthly-crossover-service/
LOCATION:RCCG Palace of Grace\, 2020 33 St SE\, Calgary\, Alberta\, T2X 2A6\, Canada
CATEGORIES:Church Services
ATTACH;FMTTYPE=image/png:https://pogcalgary.ca/wp-content/uploads/2024/04/Monthly-Prayer.png
ORGANIZER;CN="RCCG Palace of Grace":MAILTO:pogcalgary.ca
END:VEVENT
BEGIN:VEVENT
DTSTART;TZID=UTC:20240428T093000
DTEND;TZID=UTC:20240428T120000
DTSTAMP:20260420T044137
CREATED:20240427T225234Z
LAST-MODIFIED:20240428T000248Z
UID:22279-1714296600-1714305600@pogcalgary.ca
SUMMARY:Sunday Service
DESCRIPTION:This is a weekly worship service with words\, songs and felicitation
URL:https://pogcalgary.ca/event/sunday-service/
LOCATION:RCCG Palace of Grace\, 2020 33 St SE\, Calgary\, Alberta\, T2X 2A6\, Canada
CATEGORIES:Sunday Service
ATTACH;FMTTYPE=image/png:https://pogcalgary.ca/wp-content/uploads/2024/04/Sunday-Service.png
ORGANIZER;CN="RCCG Palace of Grace":MAILTO:pogcalgary.ca
END:VEVENT
BEGIN:VEVENT
DTSTART;TZID=UTC:20240501T183000
DTEND;TZID=UTC:20240501T190000
DTSTAMP:20260420T044137
CREATED:20240427T225748Z
LAST-MODIFIED:20240427T235756Z
UID:22286-1714588200-1714590000@pogcalgary.ca
SUMMARY:Midweek Service
DESCRIPTION:Midweek service where words and prayers are shared
URL:https://pogcalgary.ca/event/midweek-service/
LOCATION:RCCG Palace of Grace\, 2020 33 St SE\, Calgary\, Alberta\, T2X 2A6\, Canada
CATEGORIES:Church Services
ATTACH;FMTTYPE=image/png:https://pogcalgary.ca/wp-content/uploads/2024/04/mid-Week.png
ORGANIZER;CN="RCCG Palace of Grace":MAILTO:pogcalgary.ca
END:VEVENT
BEGIN:VEVENT
DTSTART;TZID=UTC:20240428T093000
DTEND;TZID=UTC:20240428T120000
DTSTAMP:20260420T044137
CREATED:20240427T225234Z
LAST-MODIFIED:20240428T000248Z
UID:22279-1714296600-1714305600@pogcalgary.ca
SUMMARY:Sunday Service
DESCRIPTION:This is a weekly worship service with words\, songs and felicitation
URL:https://pogcalgary.ca/event/sunday-service/
LOCATION:RCCG Palace of Grace\, 2020 33 St SE\, Calgary\, Alberta\, T2X 2A6\, Canada
CATEGORIES:Sunday Service
ATTACH;FMTTYPE=image/png:https://pogcalgary.ca/wp-content/uploads/2024/04/Sunday-Service.png
ORGANIZER;CN="RCCG Palace of Grace":MAILTO:pogcalgary.ca
END:VEVENT
BEGIN:VEVENT
DTSTART;TZID=UTC:20240501T183000
DTEND;TZID=UTC:20240501T190000
DTSTAMP:20260420T044137
CREATED:20240427T225748Z
LAST-MODIFIED:20240427T235756Z
UID:22286-1714588200-1714590000@pogcalgary.ca
SUMMARY:Midweek Service
DESCRIPTION:Midweek service where words and prayers are shared
URL:https://pogcalgary.ca/event/midweek-service/
LOCATION:RCCG Palace of Grace\, 2020 33 St SE\, Calgary\, Alberta\, T2X 2A6\, Canada
CATEGORIES:Church Services
ATTACH;FMTTYPE=image/png:https://pogcalgary.ca/wp-content/uploads/2024/04/mid-Week.png
ORGANIZER;CN="RCCG Palace of Grace":MAILTO:pogcalgary.ca
END:VEVENT
BEGIN:VEVENT
DTSTART;TZID=UTC:20240428T093000
DTEND;TZID=UTC:20240428T120000
DTSTAMP:20260420T044137
CREATED:20240427T225234Z
LAST-MODIFIED:20240428T000248Z
UID:22279-1714296600-1714305600@pogcalgary.ca
SUMMARY:Sunday Service
DESCRIPTION:This is a weekly worship service with words\, songs and felicitation
URL:https://pogcalgary.ca/event/sunday-service/
LOCATION:RCCG Palace of Grace\, 2020 33 St SE\, Calgary\, Alberta\, T2X 2A6\, Canada
CATEGORIES:Sunday Service
ATTACH;FMTTYPE=image/png:https://pogcalgary.ca/wp-content/uploads/2024/04/Sunday-Service.png
ORGANIZER;CN="RCCG Palace of Grace":MAILTO:pogcalgary.ca
END:VEVENT
BEGIN:VEVENT
DTSTART;TZID=UTC:20240501T183000
DTEND;TZID=UTC:20240501T190000
DTSTAMP:20260420T044137
CREATED:20240427T225748Z
LAST-MODIFIED:20240427T235756Z
UID:22286-1714588200-1714590000@pogcalgary.ca
SUMMARY:Midweek Service
DESCRIPTION:Midweek service where words and prayers are shared
URL:https://pogcalgary.ca/event/midweek-service/
LOCATION:RCCG Palace of Grace\, 2020 33 St SE\, Calgary\, Alberta\, T2X 2A6\, Canada
CATEGORIES:Church Services
ATTACH;FMTTYPE=image/png:https://pogcalgary.ca/wp-content/uploads/2024/04/mid-Week.png
ORGANIZER;CN="RCCG Palace of Grace":MAILTO:pogcalgary.ca
END:VEVENT
BEGIN:VEVENT
DTSTART;TZID=UTC:20240428T093000
DTEND;TZID=UTC:20240428T120000
DTSTAMP:20260420T044137
CREATED:20240427T225234Z
LAST-MODIFIED:20240428T000248Z
UID:22279-1714296600-1714305600@pogcalgary.ca
SUMMARY:Sunday Service
DESCRIPTION:This is a weekly worship service with words\, songs and felicitation
URL:https://pogcalgary.ca/event/sunday-service/
LOCATION:RCCG Palace of Grace\, 2020 33 St SE\, Calgary\, Alberta\, T2X 2A6\, Canada
CATEGORIES:Sunday Service
ATTACH;FMTTYPE=image/png:https://pogcalgary.ca/wp-content/uploads/2024/04/Sunday-Service.png
ORGANIZER;CN="RCCG Palace of Grace":MAILTO:pogcalgary.ca
END:VEVENT
BEGIN:VEVENT
DTSTART;TZID=UTC:20240501T183000
DTEND;TZID=UTC:20240501T190000
DTSTAMP:20260420T044137
CREATED:20240427T225748Z
LAST-MODIFIED:20240427T235756Z
UID:22286-1714588200-1714590000@pogcalgary.ca
SUMMARY:Midweek Service
DESCRIPTION:Midweek service where words and prayers are shared
URL:https://pogcalgary.ca/event/midweek-service/
LOCATION:RCCG Palace of Grace\, 2020 33 St SE\, Calgary\, Alberta\, T2X 2A6\, Canada
CATEGORIES:Church Services
ATTACH;FMTTYPE=image/png:https://pogcalgary.ca/wp-content/uploads/2024/04/mid-Week.png
ORGANIZER;CN="RCCG Palace of Grace":MAILTO:pogcalgary.ca
END:VEVENT
BEGIN:VEVENT
DTSTART;TZID=UTC:20240430T233000
DTEND;TZID=UTC:20240430T233000
DTSTAMP:20260420T044137
CREATED:20240427T230122Z
LAST-MODIFIED:20240427T235836Z
UID:22290-1714519800-1714519800@pogcalgary.ca
SUMMARY:Monthly Crossover Service
DESCRIPTION:Prayer at the last day of the month to cross over to the new month.
URL:https://pogcalgary.ca/event/monthly-crossover-service/
LOCATION:RCCG Palace of Grace\, 2020 33 St SE\, Calgary\, Alberta\, T2X 2A6\, Canada
CATEGORIES:Church Services
ATTACH;FMTTYPE=image/png:https://pogcalgary.ca/wp-content/uploads/2024/04/Monthly-Prayer.png
ORGANIZER;CN="RCCG Palace of Grace":MAILTO:pogcalgary.ca
END:VEVENT
BEGIN:VEVENT
DTSTART;TZID=UTC:20240428T093000
DTEND;TZID=UTC:20240428T120000
DTSTAMP:20260420T044137
CREATED:20240427T225234Z
LAST-MODIFIED:20240428T000248Z
UID:22279-1714296600-1714305600@pogcalgary.ca
SUMMARY:Sunday Service
DESCRIPTION:This is a weekly worship service with words\, songs and felicitation
URL:https://pogcalgary.ca/event/sunday-service/
LOCATION:RCCG Palace of Grace\, 2020 33 St SE\, Calgary\, Alberta\, T2X 2A6\, Canada
CATEGORIES:Sunday Service
ATTACH;FMTTYPE=image/png:https://pogcalgary.ca/wp-content/uploads/2024/04/Sunday-Service.png
ORGANIZER;CN="RCCG Palace of Grace":MAILTO:pogcalgary.ca
END:VEVENT
BEGIN:VEVENT
DTSTART;TZID=UTC:20240501T183000
DTEND;TZID=UTC:20240501T190000
DTSTAMP:20260420T044137
CREATED:20240427T225748Z
LAST-MODIFIED:20240427T235756Z
UID:22286-1714588200-1714590000@pogcalgary.ca
SUMMARY:Midweek Service
DESCRIPTION:Midweek service where words and prayers are shared
URL:https://pogcalgary.ca/event/midweek-service/
LOCATION:RCCG Palace of Grace\, 2020 33 St SE\, Calgary\, Alberta\, T2X 2A6\, Canada
CATEGORIES:Church Services
ATTACH;FMTTYPE=image/png:https://pogcalgary.ca/wp-content/uploads/2024/04/mid-Week.png
ORGANIZER;CN="RCCG Palace of Grace":MAILTO:pogcalgary.ca
END:VEVENT
BEGIN:VEVENT
DTSTART;TZID=UTC:20240428T093000
DTEND;TZID=UTC:20240428T120000
DTSTAMP:20260420T044137
CREATED:20240427T225234Z
LAST-MODIFIED:20240428T000248Z
UID:22279-1714296600-1714305600@pogcalgary.ca
SUMMARY:Sunday Service
DESCRIPTION:This is a weekly worship service with words\, songs and felicitation
URL:https://pogcalgary.ca/event/sunday-service/
LOCATION:RCCG Palace of Grace\, 2020 33 St SE\, Calgary\, Alberta\, T2X 2A6\, Canada
CATEGORIES:Sunday Service
ATTACH;FMTTYPE=image/png:https://pogcalgary.ca/wp-content/uploads/2024/04/Sunday-Service.png
ORGANIZER;CN="RCCG Palace of Grace":MAILTO:pogcalgary.ca
END:VEVENT
BEGIN:VEVENT
DTSTART;TZID=UTC:20240501T183000
DTEND;TZID=UTC:20240501T190000
DTSTAMP:20260420T044137
CREATED:20240427T225748Z
LAST-MODIFIED:20240427T235756Z
UID:22286-1714588200-1714590000@pogcalgary.ca
SUMMARY:Midweek Service
DESCRIPTION:Midweek service where words and prayers are shared
URL:https://pogcalgary.ca/event/midweek-service/
LOCATION:RCCG Palace of Grace\, 2020 33 St SE\, Calgary\, Alberta\, T2X 2A6\, Canada
CATEGORIES:Church Services
ATTACH;FMTTYPE=image/png:https://pogcalgary.ca/wp-content/uploads/2024/04/mid-Week.png
ORGANIZER;CN="RCCG Palace of Grace":MAILTO:pogcalgary.ca
END:VEVENT
BEGIN:VEVENT
DTSTART;TZID=UTC:20240428T093000
DTEND;TZID=UTC:20240428T120000
DTSTAMP:20260420T044137
CREATED:20240427T225234Z
LAST-MODIFIED:20240428T000248Z
UID:22279-1714296600-1714305600@pogcalgary.ca
SUMMARY:Sunday Service
DESCRIPTION:This is a weekly worship service with words\, songs and felicitation
URL:https://pogcalgary.ca/event/sunday-service/
LOCATION:RCCG Palace of Grace\, 2020 33 St SE\, Calgary\, Alberta\, T2X 2A6\, Canada
CATEGORIES:Sunday Service
ATTACH;FMTTYPE=image/png:https://pogcalgary.ca/wp-content/uploads/2024/04/Sunday-Service.png
ORGANIZER;CN="RCCG Palace of Grace":MAILTO:pogcalgary.ca
END:VEVENT
END:VCALENDAR