BEGIN:VCALENDAR
VERSION:2.0
PRODID:-//Place of Grace Calgary - ECPv6.15.15//NONSGML v1.0//EN
CALSCALE:GREGORIAN
METHOD:PUBLISH
X-ORIGINAL-URL:https://pogcalgary.ca
X-WR-CALDESC:Events for Place of Grace Calgary
REFRESH-INTERVAL;VALUE=DURATION:PT1H
X-Robots-Tag:noindex
X-PUBLISHED-TTL:PT1H
BEGIN:VTIMEZONE
TZID:UTC
BEGIN:STANDARD
TZOFFSETFROM:+0000
TZOFFSETTO:+0000
TZNAME:UTC
DTSTART:20230101T000000
END:STANDARD
END:VTIMEZONE
BEGIN:VEVENT
DTSTART;TZID=UTC:20240501T183000
DTEND;TZID=UTC:20240501T190000
DTSTAMP:20260420T000309
CREATED:20240427T225748Z
LAST-MODIFIED:20240427T235756Z
UID:22286-1714588200-1714590000@pogcalgary.ca
SUMMARY:Midweek Service
DESCRIPTION:Midweek service where words and prayers are shared
URL:https://pogcalgary.ca/event/midweek-service/
LOCATION:RCCG Palace of Grace\, 2020 33 St SE\, Calgary\, Alberta\, T2X 2A6\, Canada
CATEGORIES:Church Services
ATTACH;FMTTYPE=image/png:https://pogcalgary.ca/wp-content/uploads/2024/04/mid-Week.png
ORGANIZER;CN="RCCG Palace of Grace":MAILTO:pogcalgary.ca
END:VEVENT
END:VCALENDAR